BEGIN:VCALENDAR
VERSION:2.0
PRODID:-//Private Homecare - ECPv5.14.0.3//NONSGML v1.0//EN
CALSCALE:GREGORIAN
METHOD:PUBLISH
X-WR-CALNAME:Private Homecare
X-ORIGINAL-URL:https://privatehomecare.ie
X-WR-CALDESC:Events for Private Homecare
REFRESH-INTERVAL;VALUE=DURATION:PT1H
X-Robots-Tag:noindex
X-PUBLISHED-TTL:PT1H
BEGIN:VTIMEZONE
TZID:Europe/Dublin
BEGIN:STANDARD
TZOFFSETFROM:+0000
TZOFFSETTO:+0100
TZNAME:IST
DTSTART:20220327T010000
END:STANDARD
BEGIN:DAYLIGHT
TZOFFSETFROM:+0100
TZOFFSETTO:+0000
TZNAME:GMT
DTSTART:20221030T010000
END:DAYLIGHT
END:VTIMEZONE
BEGIN:VEVENT
DTSTART;TZID=Europe/Dublin:20220425T100000
DTEND;TZID=Europe/Dublin:20220426T160000
DTSTAMP:20260419T154519
CREATED:20220414T085543Z
LAST-MODIFIED:20220414T085543Z
UID:3720-1650880800-1650988800@privatehomecare.ie
SUMMARY:Induction Training
DESCRIPTION:This Induction course is for Carers of Private HomeCare only. See emails for course content. \nDay 1: 25th April 2022 \nDay 2: 26th April 2022
URL:https://privatehomecare.ie/course/induction-training-3/
LOCATION:Online via Zoom\, Ireland
CATEGORIES:Induction,Infection Prevention and Control
ORGANIZER;CN="Private%20HomeCare":MAILTO:info@privatehomecare.ie
END:VEVENT
BEGIN:VEVENT
DTSTART;TZID=Europe/Dublin:20220615T100000
DTEND;TZID=Europe/Dublin:20220630T160000
DTSTAMP:20260419T154519
CREATED:20211210T103730Z
LAST-MODIFIED:20211210T103730Z
UID:3307-1655287200-1656604800@privatehomecare.ie
SUMMARY:QQI Care Skills - Online class with trainer - €200
DESCRIPTION:[vc_row][vc_column][vc_widget_sidebar sidebar_id=”sidebar-pay-for-course-in-full”][/vc_column][/vc_row][vc_row css=”.vc_custom_1560182789980{padding-top: 40px !important;}”][vc_column][vc_row_inner el_class=”qualifications-box” css=”.vc_custom_1560182654694{margin-bottom: 0px !important;padding-top: 10px !important;padding-bottom: 40px !important;background-color: #f9f9f9 !important;}”][vc_column_inner][vc_single_image image=”421″ img_size=”full” alignment=”center” css=”.vc_custom_1560182040754{margin-bottom: 0px !important;}”][vc_column_text] \nQualification Details\n[/vc_column_text][vc_column_text] \nQQI Course Code: 5N2770 | NFQ Level 5 | Award Class Minor \n[/vc_column_text][/vc_column_inner][/vc_row_inner][vc_column_text] \nCare Skills Course Outline\n[/vc_column_text][vc_column_text css=”.vc_custom_1623423647777{margin-bottom: 45px !important;}”]The QQI Care Skills course is an 5 day module which is available for all those with the relevant experience – Recognised Prior Learning (RPL). \nTeaching Format: Online class with trainer\nThis course is hosted by the trainer through the online platform\, Zoom. You must have access to a laptop with a webcam or a smartphone. \nIf you are interested in working with becoming a carer with us\, please visit our recruitment page.[/vc_column_text][vc_column_text] \nCourse Dates\n[/vc_column_text][vc_column_text css=”.vc_custom_1639132626313{margin-bottom: 45px !important;}”]There are 2 online sessions per day; 10.15am-12pm and 2pm-4pm (you must attend all sessions) \nDay 1: 15th June 2022 \nDay 2: 16th June 2022 \nDay 3: 22nd June 2022 \nDay 4: 23rd June 2022 \nDay 5: 30th June 2022[/vc_column_text][vc_column_text] \nCourse Cost\n[/vc_column_text][vc_column_text css=”.vc_custom_1623423776512{margin-bottom: 45px !important;}”]€200. Secure a place with a deposit of €50 payable online.[/vc_column_text][vc_row_inner css=”.vc_custom_1560182682404{padding-top: 10px !important;}”][vc_column_inner][vc_column_text] \nLearning Outcomes\n[/vc_column_text][vc_column_text]At the end of this module\, you will be able to: \n\nIdentify relevant groups of people in need of health care\nExamine the physical\, emotional\, social\, psychological and spiritual needs of a range of groups of people\, taking into account individual variation\nIdentify the hygiene needs of dependent clients\nDiscuss the prevention of pressure sores\nDemonstrate knowledge of the correct procedures for the cleaning and replacement of a range of patient equipment\nAdapt levels of assistance to the needs of particular clients\nDemonstrate a range of interpersonal skills when dealing with clients to include empathy\, respect\, patience and effective communication skills\nExercise initiative to improve client involvement in social events\, outings and occupational therapy and physiotherapy\nContribute to the maintenance of safe and hygienic environments for clients to include the safe disposal of soiled linen\nAssist clients with dressing\, grooming\, eating\, drinking\, toileting\, continence promotion\, mobility and where appropriate\, social needs\nApply client safety and security procedures to include appropriate on site client care procedures for washing\, bathing\, showering\, positioning\, moving and handling\nGive assistance that enhances the privacy\, dignity\, independence and positive self image of clients in care\nGive assistance to clients in the use of a range of care equipment to include sensory equipment\, aids to encourage independence and mechanical aids including hoists\, mobility\, feeding\, washing\, and elimination aids\nReport changes in the client’s condition to the relevant Supervisor\nComplete client documentation.\n\n[/vc_column_text][/vc_column_inner][/vc_row_inner][vc_row_inner equal_height=”yes” gap=”20″ el_class=”course-3col-details”][vc_column_inner width=”1/3″][vc_column_text el_class=”hc-purple”] \n\nDuration\n[/vc_column_text][vc_column_text] \nThis 5 day course takes place 2 days per week over 3 weeks \n[/vc_column_text][/vc_column_inner][vc_column_inner width=”1/3″][vc_column_text el_class=”hc-purple”] \n\nLocation\n[/vc_column_text][vc_column_text] \nOnline through Zoom – Full details will be provided upon booking. \n[/vc_column_text][/vc_column_inner][vc_column_inner width=”1/3″][vc_column_text el_class=”hc-purple”] \n\nCost\n[/vc_column_text][vc_column_text] \nThe cost is €200 per person for the entire course\, including all training materials. \n[/vc_column_text][/vc_column_inner][/vc_row_inner][vc_widget_sidebar sidebar_id=”sidebar-anna-lloyd”][/vc_column][/vc_row]
URL:https://privatehomecare.ie/course/qqi-care-skills-online-class-with-trainer-e200-2/
LOCATION:Online via Zoom\, Ireland
CATEGORIES:Courses for Family Carers,QQI “Care Skills”,QQI Courses for Professional Carers
ATTACH;FMTTYPE=image/jpeg:https://privatehomecare.ie/wp-content/uploads/2019/06/Care-Skills-1.jpg
ORGANIZER;CN="Private%20HomeCare":MAILTO:info@privatehomecare.ie
END:VEVENT
END:VCALENDAR